Workbook

Sheet Дневной рацион, Дети до 3 лет, 
A1: Учреждение | B1: МКДОУ д/с № 504 8.12.2022 | E1: Отд./корп | J1: День | K1: 4
A2: Прием пищи | B2: Раздел | C2: № рец. | D2: Блюдо | E2: Выход | F2: Калорийность | G2: Белки | H2: Жиры | I2: Углеводы
A3: ЗАВТРАК
B4: Горячие блюда (каши, запеканки и т.д) | C4: 270 | D4: Каша молочная пшеничная жидкая | E4: 150г | F4: 911.25 | G4: 27.75 | H4: 28.05 | I4: 136.875
B5: Бутерброды | C5: 99 | D5: Бутерброд с маслом | E5: 34г | F5: 191.372 | G5: 1.555 | H5: 0.098 | I5: 9.715
B6: Напитки | C6: 117 | D6: Какао с молоком | E6: 150г | F6: 115 | G6: 1.8 | H6: 3 | I6: 17.9
A7: Общая стоимость
A8: ЗАВТРАК № 2
A9: Общая стоимость
A10: О Б Е Д
B11: Первые блюда (Супы) | C11: 149 | D11: Суп картофельный с горохом | E11: 150г | F11: 64.8 | G11: 1.38 | H11: 2.55 | I11: 9.075
B12: Вторые блюда | C12: 349 | D12: Рыба -горбуша, тушеная в томате с овощами | E12: 120г | F12: 122.572 | G12: 11.4 | H12: 6.172 | I12: 5.4
B13: Гарниры | C13: 434 | D13: Картофельное пюре | E13: 110г | F13: 101.2 | G13: 2.31 | H13: 4.84 | I13: 11.99
C14: 527 | D14: Компот из смеси сухофруктов | E14: 150г | F14: 82.5 | G14: 0.375 | H14: 0 | I14: 20.25
D15: Хлеб бородинский | E15: 50г | F15: 0 | G15: 0 | H15: 0 | I15: 0
C16: 114 | D16: Хлеб пшеничный | E16: 15г | F16: 35.25 | G16: 105.9 | H16: 0.12 | I16: 7.38
A17: Общая стоимость
A18: ПОЛДНИК
B19: Бутерброды | C19: 101 | D19: Батон с повидлом | E19: 45г | F19: 176 | G19: 1.7 | H19: 4.3 | I19: 32.6
C20: 534 | D20: Молоко кипяченое | E20: 150г | F20: 79.5 | G20: 4.35 | H20: 3.75 | I20: 7.2
A21: Общая стоимость
A22: У Ж И Н
B23: Горячие блюда (каши, запеканки и т.д) | C23: 307 | D23: Омлет натуральный | E23: 80г | F23: 130.462 | G23: 6.893 | H23: 10.708 | I23: 1.847
B24: Напитки | C24: 132 | D24: Чай с сахаром | E24: 150г | F24: 45 | G24: 0 | H24: 0 | I24: 8.5
C25: 114 | D25: Хлеб пшеничный | E25: 30г | F25: 70.5 | G25: 211.8 | H25: 0.24 | I25: 14.76
A26: Общая стоимость
A27: Общая стоимость дневного рациона

Sheet дети 1-3
A1: Учреждение | B1: МКДОУ Тогучинского района " Тогучинский д/с № 2" | G1: День 7
A2: Прием пищи | B2: № рец. | C2: Блюдо | D2: Выход | E2: Цена | F2: Калорийность | G2: Белки | H2: Жиры | I2: Углеводы
A3: ЗАВТРАК
B4: 54-16к | C4: каша молочная " Дружба" | D4: 140г | F4: 118 | G4: 3.5 | H4: 4.1 | I4: 17
B5: 53-19з | C5: масло сливочное(порц.) | D5: 5г | F5: 33.1 | G5: 0.1 | H5: 3.6 | I5: 0.1
B6: пром. | C6: хлеб пшеничный | D6: 25г | F6: 58.6 | G6: 1.9 | H6: 0.2 | I6: 12.3
B7: 54-23гн | C7: кофейный напиток с молоком | D7: 180г | F7: 77 | G7: 3.4 | H7: 2.6 | I7: 8.5
A8: ЗАВТРАК № 2
C9: яблоки в нарезке | D9: 60г | F9: 32 | G9: 0.2 | H9: 0 | I9: 6.8
A10: О Б Е Д
B11: 54-8с | C11: суп картофельный гороховый на кур./б. | D11: 150г | F11: 100 | G11: 5 | H11: 3.5 | I11: 12.2
B12: 54-11г | C12: картофельное пюре | D12: 90г | F12: 93 | G12: 2.2 | H12: 3.5 | I12: 13
B13: 54-2соус | C13: соус белый(основной) | D13: 10г | F13: 6.3 | G13: 0.2 | H13: 0.4 | I13: 0.4
B14: 54-3р | C14: котлета рыбная(минтай) | D14: 50г | F14: 57 | G14: 7 | H14: 1.3 | I14: 4.3
B15: 54-5хн | C15: компот из свежих яблок | D15: 150 | F15: 31 | G15: 0.2 | H15: 0.1 | I15: 7.7
B16: пром. | C16: Хлеб пшеничный | D16: 12г | F16: 28 | G16: 0.9 | H16: 0.1 | I16: 5.9
B17: пром. | C17: Хлеб ржаной | D17: 12г | F17: 20.5 | G17: 0.8 | H17: 0.1 | I17: 4
A18: ПОЛДНИК
B19: 54-10в | C19: булочка ванильная | D19: 50г | F19: 148 | G19: 3.8 | H19: 3.4 | I19: 25.4
B20: пром. | C20: снежок | D20: 180г | F20: 137.7 | G20: 4.8 | H20: 4.5 | I20: 19.5
A21: УЖИН | B21: 54-4г | C21: каша гречневая с маслом | D21: 100г | F21: 156 | G21: 5.4 | H21: 4.2 | I21: 23.9
B22: 54-21гн | C22: какао с молоком | D22: 180г | F22: 90 | G22: 4.2 | H22: 3.2 | I22: 11.4
B23: пром. | C23: Хлеб пшеничный | D23: 10г | F23: 23.4 | G23: 0.8 | H23: 0.1 | I23: 4.9

Sheet дети старше 3 лет
A1: Учреждение | B1: МКДОУ Тогучинского района " Тогучинский д/с № 2" | G1: день 7
A2: Прием пищи | B2: № рец. | C2: Блюдо | D2: Выход | E2: Цена | F2: Калорийность | G2: Белки | H2: Жиры | I2: Углеводы
A3: ЗАВТРАК
B4: 54-16к | C4: каша молочная " Дружба" | D4: 165г | F4: 139 | G4: 4.1 | H4: 4.8 | I4: 20
B5: 53-19з | C5: масло сливочное(порц.) | D5: 5г | F5: 33.1 | G5: 0.1 | H5: 3.6 | I5: 0.1
B6: пром. | C6: хлеб пшеничный | D6: 30г | F6: 70.3 | G6: 2.3 | H6: 0.2 | I6: 14.8
B7: 54-23гн | C7: кофейный напиток с молоком | D7: 200г | F7: 86 | G7: 3.8 | H7: 2.9 | I7: 11.3
A8: О Б Е Д
B9: 54-8с | C9: суп картофельный гороховый на кур./б. | D9: 180г | F9: 120 | G9: 6 | H9: 4.2 | I9: 14.6
B10: 54-11г | C10: картофельное пюре | D10: 120г | F10: 111.5 | G10: 2.6 | H10: 4.2 | I10: 15.8
B11: 54-2соус | C11: соус белый(основной) | D11: 15г | F11: 9.5 | G11: 0.3 | H11: 0.6 | I11: 0.6
B12: 54-3р | C12: котлета рыбная(минтай) | D12: 60г | F12: 68.6 | G12: 8.4 | H12: 1.6 | I12: 5.1
B13: 54-5хн | C13: компот из свежих яблок | D13: 200г | F13: 41 | G13: 0.3 | H13: 0.2 | I13: 10.2
B14: пром. | C14: Хлеб пшеничный | D14: 20г | F14: 46.9 | G14: 1.5 | H14: 0.2 | I14: 9.8
B15: пром. | C15: Хлеб ржаной | D15: 15г | F15: 25.6 | G15: 1 | H15: 0.2 | I15: 5
A16: ПОЛДНИК
B17: 54-10в | C17: булочка ванильная | D17: 50г | F17: 148 | G17: 3.8 | H17: 3.4 | I17: 25.4
B18: пром. | C18: снежок | D18: 200г | F18: 153 | G18: 5.3 | H18: 5 | I18: 21.7
A19: УЖИН | B19: 54-4г | C19: каша гречневая с маслом | D19: 110г | F19: 172 | G19: 5.9 | H19: 4.6 | I19: 26
B20: 54-21гн | C20: какао с молоком | D20: 200г | F20: 100 | G20: 4.7 | H20: 3.6 | I20: 12.6
B21: пром. | C21: Хлеб пшеничный | D21: 15г | F21: 35.2 | G21: 1.5 | H21: 0.1 | I21: 7.4

Sheet дети с пищевой аллергией
A1: Учреждение | B1: МКДОУ Тогучинского района " Тогучинский д/с № 2" | G1: день 7
A2: Прием пищи | B2: № рец. | C2: Блюдо | D2: Выход | E2: Цена | F2: Калорийность | G2: Белки | H2: Жиры | I2: Углеводы
A3: завтрак
B4: 54-8к | C4: каша безмолочная пшённая вязкая с курагой | D4: 165г | F4: 196.2 | G4: 4.8 | H4: 6.3 | I4: 29.8
B5: 53-19з | C5: масло сливочное(порц.) | D5: 5г | F5: 33.1 | G5: 0.1 | H5: 3.6 | I5: 0.1
B6: пром. | C6: хлеб пшеничный | D6: 30г | F6: 70.3 | G6: 2.3 | H6: 0.2 | I6: 14.8
B7: 54-5гн | C7: чай с облепихой и сахаром | D7: 200г | F7: 35 | G7: 0.3 | H7: 0.6 | I7: 7.1
A8: обед
B9: 54-8с | C9: суп картофельный гороховый на кур./б. | D9: 200г | F9: 133 | G9: 6.7 | H9: 4.7 | I9: 16.2
B10: 54-11г | C10: картофельное пюре | D10: 120г | F10: 102 | G10: 2 | H10: 3.8 | I10: 15
B11: 54-2соус | C11: соус белый(основной) | D11: 15г | F11: 9.5 | G11: 0.3 | H11: 0.6 | I11: 0.6
B12: 54-3р | C12: котлета рыбная(минтай) | D12: 60г | F12: 68.6 | G12: 8.4 | H12: 1.6 | I12: 5.1
B13: 54-5хн | C13: компот из свежих яблок | D13: 200г | F13: 41 | G13: 0.3 | H13: 0.2 | I13: 10.2
B14: пром. | C14: Хлеб пшеничный | D14: 20г | F14: 46.9 | G14: 1.5 | H14: 0.2 | I14: 9.8
B15: пром. | C15: Хлеб ржаной | D15: 15г | F15: 25.6 | G15: 1 | H15: 0.2 | I15: 5
A17: полдник | B17: 54-10в | C17: булочка ванильная | D17: 50г | F17: 148 | G17: 3.8 | H17: 3.4 | I17: 25.4
B18: пром. | C18: сок фруктовый | D18: 200г | F18: 76 | G18: 0 | H18: 0 | I18: 20
A19: ужин | B19: 54-4г | C19: каша гречневая рассыпчатая | D19: 110г | F19: 172 | G19: 5.9 | H19: 4.6 | I19: 26
B20: 54-7хн | C20: компот из смеси фр.б.з. | D20: 200г | F20: 35 | G20: 0.3 | H20: 0.1 | I20: 8.4
B21: пром. | C21: Хлеб пшеничный | D21: 15г | F21: 35.2 | G21: 1.5 | H21: 0.1 | I21: 7.4

Sheet дети с ОВЗ
A1: Учреждение | B1: МКДОУ Тогучинского района " Тогучинский д/с № 2" | G1: день 7
A2: Прием пищи | B2: № рец. | C2: Блюдо | D2: Выход | E2: Цена | F2: Калорийность | G2: Белки | H2: Жиры | I2: Углеводы
A3: ЗАВТРАК
B4: 54-16к | C4: каша молочная " Дружба" | D4: 165г | F4: 139 | G4: 4.1 | H4: 4.8 | I4: 20
B5: 53-19з | C5: масло сливочное(порц.) | D5: 10г | F5: 66.1 | G5: 0.1 | H5: 7.2 | I5: 0.1
B6: пром. | C6: хлеб пшеничный | D6: 30г | F6: 70.3 | G6: 2.3 | H6: 0.2 | I6: 14.8
B7: 54-23гн | C7: кофейный напиток с молоком | D7: 200г | F7: 86 | G7: 3.8 | H7: 2.9 | I7: 11.3
A8: О Б Е Д
B9: 54-8с | C9: суп картофельный гороховый на кур./б. | D9: ='дети старше 3 лет'!D9 -> 180г | F9: ='дети старше 3 лет'!F9 -> 120 | G9: ='дети старше 3 лет'!G9 -> 6 | H9: ='дети старше 3 лет'!H9 -> 4.2 | I9: ='дети старше 3 лет'!I9 -> 14.6
B10: ='дети старше 3 лет'!B10 -> 54-11г | C10: ='дети старше 3 лет'!C10 -> картофельное пюре | D10: ='дети старше 3 лет'!D10 -> 120г | F10: ='дети старше 3 лет'!F10 -> 111.5 | G10: ='дети старше 3 лет'!G10 -> 2.6 | H10: ='дети старше 3 лет'!H10 -> 4.2 | I10: ='дети старше 3 лет'!I10 -> 15.8
B11: ='дети старше 3 лет'!B11 -> 54-2соус | C11: ='дети старше 3 лет'!C11 -> соус белый(основной) | D11: ='дети старше 3 лет'!D11 -> 15г | F11: ='дети старше 3 лет'!F11 -> 9.5 | G11: ='дети старше 3 лет'!G11 -> 0.3 | H11: ='дети старше 3 лет'!H11 -> 0.6 | I11: ='дети старше 3 лет'!I11 -> 0.6
B12: ='дети старше 3 лет'!B12 -> 54-3р | C12: ='дети старше 3 лет'!C12 -> котлета рыбная(минтай) | D12: 80г | F12: 91 | G12: 11.2 | H12: 2.1 | I12: 6.8
B13: ='дети с пищевой аллергией'!B18 -> пром. | C13: ='дети с пищевой аллергией'!C18 -> сок фруктовый | D13: ='дети с пищевой аллергией'!D18 -> 200г | F13: ='дети с пищевой аллергией'!F18 -> 76 | G13: ='дети с пищевой аллергией'!G18 -> 0 | H13: ='дети с пищевой аллергией'!H18 -> 0 | I13: ='дети с пищевой аллергией'!I18 -> 20
B14: пром. | C14: Хлеб пшеничный | D14: 20г | F14: 46.9 | G14: 1.5 | H14: 0.2 | I14: 9.8
B15: пром. | C15: Хлеб ржаной | D15: 15г | F15: 25.6 | G15: 1 | H15: 0.2 | I15: 5
