{"text_format":"3","workbook":"xlsx","n_sheets":5,"sheets":["Дневной рацион, Дети до 3 лет, ","дети 1-3","дети старше 3 лет","дети с пищевой аллергией","дети с ОВЗ"],"read":"whole","date_system":"1900"}

{"sheet":"Дневной рацион, Дети до 3 лет, ","index":0,"n_rows":27,"n_cols":11,"rows_kept":27,"merged":[[0,1,0,3],[0,6,0,8]]}
["Учреждение","МКДОУ д/с № 504 8.12.2022",null,null,"Отд./корп",{"$nulls":4},"День",4]
["Прием пищи","Раздел","№ рец.","Блюдо","Выход","Калорийность","Белки","Жиры","Углеводы"]
["ЗАВТРАК"]
[null,"Горячие блюда (каши, запеканки и т.д)","270","Каша молочная пшеничная жидкая","150г",911.25,27.75,28.05,136.875]
[null,"Бутерброды","99","Бутерброд с маслом ","34г",191.372,1.555,0.098,9.715]
[null,"Напитки","117","Какао с молоком","150г",115,1.8,3,17.9]
["Общая стоимость"]
["ЗАВТРАК № 2"]
["Общая стоимость"]
["О Б Е Д"]
[null,"Первые блюда (Супы)","149","Суп картофельный с горохом","150г",64.8,1.38,2.55,9.075]
[null,"Вторые блюда","349","Рыба -горбуша, тушеная в томате с овощами ","120г",122.572,11.4,6.172,5.4]
[null,"Гарниры","434","Картофельное пюре","110г",101.2,2.31,4.84,11.99]
[null,null,"527","Компот из смеси сухофруктов","150г",82.5,0.375,0,20.25]
[{"$nulls":3},"Хлеб бородинский","50г",0,0,0,0]
[null,null,"114","Хлеб пшеничный","15г",35.25,105.9,0.12,7.38]
["Общая стоимость"]
["ПОЛДНИК"]
[null,"Бутерброды","101","Батон с повидлом","45г",176,1.7,4.3,32.6]
[null,null,"534","Молоко кипяченое","150г",79.5,4.35,3.75,7.2]
["Общая стоимость"]
["У Ж И Н"]
[null,"Горячие блюда (каши, запеканки и т.д)","307","Омлет натуральный","80г",130.462,6.893,10.708,1.847]
[null,"Напитки","132","Чай с сахаром","150г",45,0,0,8.5]
[null,null,"114","Хлеб пшеничный","30г",70.5,211.8,0.24,14.76]
["Общая стоимость"]
["Общая стоимость дневного рациона"]

{"sheet":"дети 1-3","index":1,"n_rows":21,"n_cols":9,"rows_kept":21,"merged":[[0,1,0,3],[0,6,0,8]]}
["Учреждение","МКДОУ Тогучинского района \" Тогучинский д/с № 2\"",{"$nulls":4},"День 7"]
["Прием пищи","№ рец.","Блюдо","Выход","Цена","Калорийность","Белки","Жиры","Углеводы"]
["ЗАВТРАК"]
[null,261,"каша молочная яневая вязкая","141г",null,191,4.5,8,25]
[null,99,"Бутерброд с маслом","29г",null,142,1.2,12.1,7.3]
[null,"54-23гн","кофейный напиток с молоком","180г",null,77,3.5,2.6,10.2]
["ЗАВТРАК № 2"]
[null,null,"яблоки в нарезке","70г",null,37,0.2,0.07,7.9]
["О Б Е Д"]
[null,"54-18с","свёкольник  со сметаной","150г",null,64,3.5,2,7.2]
[null,"54-4г","каша гречневая рассыпчатая","90г",null,140,5,3.8,22]
[null,"54-1м","бефстроганов из  отварной курицы","60г",null,96,6.8,6.8,2.1]
[null,"54-1хн","компот из с/фр",150,null,60,0.4,0,14.9]
[null,"пром.","Хлеб пшеничный","12г",null,28,0.9,0.1,6]
[null,"пром.","Хлеб ржаной","12г",null,21,0.8,0.1,4]
["ПОЛДНИК"]
[null,"54-10в","булочка домашняя","50г",null,148,3.8,2.8,25.4]
[null,"54-5хн","компот из свежих яблок","150г",null,32,0.2,0.1,7.7]
["УЖИН","№331","ленивые вареники","140г",null,291,19.8,15,19.1]
[null,"54-2гн","чай с сахаром","180г",null,24,0.2,0,5.8]
[null,"пром.","Хлеб пшеничный","10г",null,23.5,0.7,0.1,5]

{"sheet":"дети старше 3 лет","index":2,"n_rows":20,"n_cols":9,"rows_kept":20,"merged":[[0,1,0,3],[0,6,0,8]]}
["Учреждение","МКДОУ Тогучинского района \" Тогучинский д/с № 2\"",{"$nulls":4},"день 7"]
["Прием пищи","№ рец.","Блюдо","Выход","Цена","Калорийность","Белки","Жиры","Углеводы"]
["ЗАВТРАК"]
[null,261,"каша молочная яневая вязкая","166г",null,225,5.3,9.5,30]
[null,99,"Бутерброд с маслом","34г",null,167,1.4,14,8.6]
[null,"54-23гн","кофейный напиток с молоком","200г",null,86,3.8,2.9,11.3]
[]
["О Б Е Д"]
[null,"54-18с","свёкольник  со сметаной","200г",null,85,4.7,3,11]
[null,"54-4г","каша гречневая рассыпчатая  ","100г",null,156,5.6,4.2,24]
[null,"54-1м","бефстроганов из отварной курицы","70г",null,112,7.9,2.4,2.4]
[null,"54-1хн","компот из с/фр","200г",null,81,0.5,0,19.7]
[null,"пром.","Хлеб пшеничный","20г",null,47,1.5,0.2,10]
[null,"пром.","Хлеб ржаной","15г",null,26,1,0.2,5]
["ПОЛДНИК"]
[null,"54-10в","булочка домашняя","50г",null,148,3.8,2.8,25.4]
[null,"54-5хн","компот из свежих яблок","200г",null,44,0.2,0.1,10.7]
["УЖИН","№331","ленивые вареники","140г",null,291,19.8,15,19.1]
[null,"54-2гн","чай с сахаром","200г",null,24,0.2,0,",5,9"]
[null,"пром.","Хлеб пшеничный","10г",null,23.5,0.7,0.1,5]

{"sheet":"дети с пищевой аллергией","index":3,"n_rows":20,"n_cols":9,"rows_kept":20,"merged":[[0,1,0,3],[0,6,0,8]]}
["Учреждение","МКДОУ Тогучинского района \" Тогучинский д/с № 2\"",{"$nulls":4},"день 7"]
["Прием пищи","№ рец.","Блюдо","Выход","Цена","Калорийность","Белки","Жиры","Углеводы"]
["ЗАВТРАК"]
[null,261,"каша  безмолочная яневая вязкая","166г",null,225,5.3,9.5,30]
[null,99,"Бутерброд с маслом","34г",null,167,1.4,14,8.6]
[null,"54-23гн","кофейный напиток  без молока","200г",null,19,0,0,4.6]
[]
["О Б Е Д"]
[null,"54-18с","свёкольник  без сметаны","200г",null,77,1.7,3.6,9.6]
[null,{"$f":"'дети старше 3 лет'!B10","v":"54-4г"},{"$f":"'дети старше 3 лет'!C10","v":"каша гречневая рассыпчатая  "},{"$f":"'дети старше 3 лет'!D10","v":"100г"},{"$f":"'дети старше 3 лет'!E10","v":0},{"$f":"'дети старше 3 лет'!F10","v":156},{"$f":"'дети старше 3 лет'!G10","v":5.6},{"$f":"'дети старше 3 лет'!H10","v":4.2},{"$f":"'дети старше 3 лет'!I10","v":24}]
[null,{"$f":"'дети старше 3 лет'!B11","v":"54-1м"},{"$f":"'дети старше 3 лет'!C11","v":"бефстроганов из отварной курицы"},{"$f":"'дети старше 3 лет'!D11","v":"70г"},{"$f":"'дети старше 3 лет'!E11","v":0},{"$f":"'дети старше 3 лет'!F11","v":112},{"$f":"'дети старше 3 лет'!G11","v":7.9},{"$f":"'дети старше 3 лет'!H11","v":2.4},{"$f":"'дети старше 3 лет'!I11","v":2.4}]
[null,{"$f":"'дети старше 3 лет'!B12","v":"54-1хн"},{"$f":"'дети старше 3 лет'!C12","v":"компот из с/фр"},{"$f":"'дети старше 3 лет'!D12","v":"200г"},{"$f":"'дети старше 3 лет'!E12","v":0},{"$f":"'дети старше 3 лет'!F12","v":81},{"$f":"'дети старше 3 лет'!G12","v":0.5},{"$f":"'дети старше 3 лет'!H12","v":0},{"$f":"'дети старше 3 лет'!I12","v":19.7}]
[null,"пром.","Хлеб пшеничный","20г",null,47,1.5,0.2,10]
[null,"пром.","Хлеб ржаной","15г",null,26,1,0.2,5]
["ПОЛДНИК"]
[null,"54-10в","булочка домашняя","50г",null,148,3.8,2.8,25.4]
[null,"54-5хн","компот из свежих яблок","200г",null,44,0.2,0.1,10.7]
["УЖИН","№179","картофель отварной с маслом","150г",null,143,2.9,6.1,19]
[null,"54-2гн","чай с сахаром","200г",null,24,0.2,0,5.9]
[null,"пром.","Хлеб пшеничный","10г",null,23.5,0.7,0.1,5]

{"sheet":"дети с ОВЗ","index":4,"n_rows":15,"n_cols":9,"rows_kept":15,"merged":[[0,1,0,3],[0,6,0,8]]}
["Учреждение","МКДОУ Тогучинского района \" Тогучинский д/с № 2\"",{"$nulls":4},"день 7"]
["Прием пищи","№ рец.","Блюдо","Выход","Цена","Калорийность","Белки","Жиры","Углеводы"]
["ЗАВТРАК"]
[null,261,"каша молочная яневая вязкая","166г",null,225,5.3,9.5,30]
[null,99,"Бутерброд с маслом","35г",null,146,1.4,10.7,8.9]
[null,"54-23гн","кофейный напиток с молоком","200г",null,86,3.8,2.9,11.3]
[]
["О Б Е Д"]
[null,"54-18с","свёкольник  со сметаной","200г",null,85,4.7,3,11]
[null,{"$f":"'дети старше 3 лет'!B10","v":"54-4г"},{"$f":"'дети старше 3 лет'!C10","v":"каша гречневая рассыпчатая  "},{"$f":"'дети старше 3 лет'!D10","v":"100г"},null,{"$f":"'дети старше 3 лет'!F10","v":156},{"$f":"'дети старше 3 лет'!G10","v":5.6},{"$f":"'дети старше 3 лет'!H10","v":4.2},{"$f":"'дети старше 3 лет'!I10","v":24}]
[null,{"$f":"'дети старше 3 лет'!B11","v":"54-1м"},"бефстроганов из отварной курицы",{"$f":"'дети старше 3 лет'!D11","v":"70г"},null,{"$f":"'дети старше 3 лет'!F11","v":112},{"$f":"'дети старше 3 лет'!G11","v":7.9},{"$f":"'дети старше 3 лет'!H11","v":2.4},{"$f":"'дети старше 3 лет'!I11","v":2.4}]
[null,{"$f":"'дети старше 3 лет'!B12","v":"54-1хн"},{"$f":"'дети старше 3 лет'!C12","v":"компот из с/фр"},{"$f":"'дети старше 3 лет'!D12","v":"200г"},null,{"$f":"'дети старше 3 лет'!F12","v":81},{"$f":"'дети старше 3 лет'!G12","v":0.5},{"$f":"'дети старше 3 лет'!H12","v":0},{"$f":"'дети старше 3 лет'!I12","v":19.7}]
[null,"пром.","Хлеб пшеничный","20г",null,47,1.5,0.2,10]
[null,"пром.","Хлеб ржаной","20г",null,43,1.3,0.2,8.3]
[null,null,"яблоко свежее","200г",null,107,0.7,0.2,23]