{"text_format":"3","workbook":"xlsx","n_sheets":5,"sheets":["Дневной рацион, Дети до 3 лет, ","дети 1-3","дети старше 3 лет","дети с пищевой аллергией","дети с овз"],"read":"whole","date_system":"1900"}

{"sheet":"Дневной рацион, Дети до 3 лет, ","index":0,"n_rows":27,"n_cols":11,"rows_kept":27,"hidden":true,"merged":[[0,1,0,3],[0,6,0,8]]}
["Учреждение","МКДОУ д/с № 504 8.12.2022",null,null,"Отд./корп",{"$nulls":4},"День",4]
["Прием пищи","Раздел","№ рец.","Блюдо","Выход","Калорийность","Белки","Жиры","Углеводы"]
["ЗАВТРАК"]
[null,"Горячие блюда (каши, запеканки и т.д)","270","Каша молочная пшеничная жидкая","150г",911.25,27.75,28.05,136.875]
[null,"Бутерброды","99","Бутерброд с маслом ","34г",191.372,1.555,0.098,9.715]
[null,"Напитки","117","Какао с молоком","150г",115,1.8,3,17.9]
["Общая стоимость"]
["ЗАВТРАК № 2"]
["Общая стоимость"]
["О Б Е Д"]
[null,"Первые блюда (Супы)","149","Суп картофельный с горохом","150г",64.8,1.38,2.55,9.075]
[null,"Вторые блюда","349","Рыба -горбуша, тушеная в томате с овощами ","120г",122.572,11.4,6.172,5.4]
[null,"Гарниры","434","Картофельное пюре","110г",101.2,2.31,4.84,11.99]
[null,null,"527","Компот из смеси сухофруктов","150г",82.5,0.375,0,20.25]
[{"$nulls":3},"Хлеб бородинский","50г",0,0,0,0]
[null,null,"114","Хлеб пшеничный","15г",35.25,105.9,0.12,7.38]
["Общая стоимость"]
["ПОЛДНИК"]
[null,"Бутерброды","101","Батон с повидлом","45г",176,1.7,4.3,32.6]
[null,null,"534","Молоко кипяченое","150г",79.5,4.35,3.75,7.2]
["Общая стоимость"]
["У Ж И Н"]
[null,"Горячие блюда (каши, запеканки и т.д)","307","Омлет натуральный","80г",130.462,6.893,10.708,1.847]
[null,"Напитки","132","Чай с сахаром","150г",45,0,0,8.5]
[null,null,"114","Хлеб пшеничный","30г",70.5,211.8,0.24,14.76]
["Общая стоимость"]
["Общая стоимость дневного рациона"]

{"sheet":"дети 1-3","index":1,"n_rows":22,"n_cols":9,"rows_kept":22,"merged":[[0,1,0,3],[0,6,0,8]]}
["Учреждение","МКДОУ Тогучинского района \" Тогучинский д/с № 2\"",{"$nulls":4},"День 4"]
["Прием пищи","№ рец.","Блюдо","Выход","Цена","Калорийность","Белки","Жиры","Углеводы"]
["ЗАВТРАК"]
[null,"54-24к","каша  пшённая молочная  жидкая","141г",null,194,5.9,7.2,27]
[null,99,"Бутерброд с маслом","29г",null,142,1.2,12.1,7.3]
[null,"54-23гн","кофейный напиток с молоком","180г",null,77,3.5,2.6,10.2]
["ЗАВТРАК № 2"]
[null,"пром.","сок  фруктовый","100г",null,38,0,0,10]
["О Б Е Д"]
[null,"54-7с","суп картофельный с макаронными изделиями на кур./б.","150г",null,90,3.9,2.1,13.9]
[null,"54-6г","рис отварной","90г",null,122,2.3,2.9,22]
[null,"54-16м","печень говяжья по-строгановски","50г",null,118,8.3,8,3.3]
[null,"54-7хн","компот из смеси фруктовой б.з.","150г",null,27,0.2,0.1,6.3]
[null,"пром.","Хлеб пшеничный","12г",null,28,0.9,0.1,6]
[null,"пром.","Хлеб ржаной","12г",null,21,0.8,0.1,4]
["ПОЛДНИК"]
[null,"54-9в","булочка школьная","50г",null,143,4.3,1.5,28]
[null,"54-2гн","чай с сахаром","150г",null,20,0.2,0,4.9]
["УЖИН"]
[null,"54-5г","каша гречневая рассыпчатая с маслом",90,null,140,5,3.8,22]
[null,"54-5хн","компот из св.яблок","180г",null,38,0.2,0.1,9.2]
[null,"пром.","Хлеб пшеничный","15г",null,35,1.1,0.1,7.5]

{"sheet":"дети старше 3 лет","index":2,"n_rows":23,"n_cols":9,"rows_kept":23,"merged":[[0,1,0,3],[0,6,0,8]]}
["Учреждение","МКДОУ Тогучинского района \" Тогучинский д/с № 2\"",{"$nulls":4},"день 4"]
["Прием пищи","№ рец.","Блюдо","Выход","Цена","Калорийность","Белки","Жиры","Углеводы"]
["ЗАВТРАК"]
[null,"54-24к","каша  пшённая молочная  жидкая","166г",null,268,8.2,8.5,37]
[null,99,"Бутерброд с маслом","34г",null,167,1.4,14,8.6]
[null,"54-23гн","кофейный напиток с молоком","200г",null,86,3.8,2.9,11.3]
[{"$f":"'дети 1-3'!$A$7","v":"ЗАВТРАК № 2"}]
[null,"пром.","сок фруктовый",100,null,38,0,0,10]
["О Б Е Д"]
[null,"54-7с","суп картофельный с макаронными изделиями на кур./б.","200г",null,120,5.2,2.8,18.5]
[null,"54-6","рис отварной",100,null,136,2.6,3.2,24]
[null,"54-16м","печень по - строгановски","70г",null,166,11.7,11,4.7]
[null,"54-7хн","компот из смеси фруктовой б.з.",200,null,35,0.3,0.1,8.4]
[null,"пром.","Хлеб пшеничный","20г",null,47,1.5,0.2,10]
[null,"пром.","Хлеб ржаной","15г",null,26,1,0.2,5]
[]
["ПОЛДНИК","54-9в","булочка школьная","50г",null,143,4.3,1.5,28]
[null,"54-2гн","чай с сахаром","200г",null,24,0.2,0,5.9]
[]
["УЖИН"]
[null,"54-5г","каша гречневая рассыпчатая с маслом",100,null,156,5.6,4.2,24]
[null,"54-5хн","компот из св.яблок","200г",null,44,0.2,0.1,11]
[null,"пром.","Хлеб пшеничный","20г",null,47,1.5,0.2,10]

{"sheet":"дети с пищевой аллергией","index":3,"n_rows":22,"n_cols":9,"rows_kept":22,"merged":[[0,1,0,3],[0,6,0,8]]}
["Учреждение","МКДОУ Тогучинского района \" Тогучинский д/с № 2\"",{"$nulls":4},"день 4"]
["Прием пищи","№ рец.","Блюдо","Выход","Цена","Калорийность","Белки","Жиры","Углеводы"]
["ЗАВТРАК"]
[null,275,"каша  \" янтарная\"( из пшена с яблоками)","170г",null,257,7.1,10.7,33]
[null,99,"Бутерброд с маслом","34г",null,167,1.4,14,8.6]
[null,"54-23гн","кофейный напиток без молока","200г",null,19,0,0,4.6]
[{"$f":"'дети старше 3 лет'!$A$7","v":"ЗАВТРАК № 2"},null,"сок фруктовый","100г",null,38,0,0,10]
["О Б Е Д"]
[null,"54-7с","суп картофельный с макаронными изделиями на кур./б.","200г",null,120,5.2,2.8,18.5]
[null,"54-6г","рис отварной","100г",null,136,2.6,3.2,24]
[null,{"$f":"'дети старше 3 лет'!B12","v":"54-16м"},{"$f":"'дети старше 3 лет'!C12","v":"печень по - строгановски"},{"$f":"'дети старше 3 лет'!D12","v":"70г"},{"$f":"'дети старше 3 лет'!E12","v":0},{"$f":"'дети старше 3 лет'!F12","v":166},{"$f":"'дети старше 3 лет'!G12","v":11.7},{"$f":"'дети старше 3 лет'!H12","v":11},{"$f":"'дети старше 3 лет'!I12","v":4.7}]
[null,"54-7хн","компот из смеси фруктовой б.з.","180г",null,35,0.3,0.1,8.4]
[null,"пром.","Хлеб пшеничный","20г",null,47,1.5,0.2,10]
[null,"пром.","Хлеб ржаной","15г",null,26,1,0.2,5]
[]
["ПОЛДНИК","54-9в","булочка школьная","50г",null,143,4.3,1.5,28]
[null,"54-2гн","чай с сахаром","200г",null,24,0.2,0,5.9]
[]
["УЖИН"]
[null,{"$f":"'дети старше 3 лет'!B21","v":"54-5г"},{"$f":"'дети старше 3 лет'!C21","v":"каша гречневая рассыпчатая с маслом"},{"$f":"'дети старше 3 лет'!D21","v":100},{"$f":"'дети старше 3 лет'!E21","v":0},{"$f":"'дети старше 3 лет'!F21","v":156},{"$f":"'дети старше 3 лет'!G21","v":5.6},{"$f":"'дети старше 3 лет'!H21","v":4.2},{"$f":"'дети старше 3 лет'!I21","v":24}]
[null,"54-5хн","компот из св.яблок","200г",null,44,0.2,0.1,11]
[null,"пром.","Хлеб пшеничный","20г",null,47,1.5,0.2,10]

{"sheet":"дети с овз","index":4,"n_rows":14,"n_cols":9,"rows_kept":14,"merged":[[0,1,0,3],[0,6,0,8]]}
["Учреждение","МКДОУ Тогучинского района \" Тогучинский д/с № 2\"",{"$nulls":4},"день 4"]
["Прием пищи","№ рец.","Блюдо","Выход","Цена","Калорийность","Белки","Жиры","Углеводы"]
[{"$f":"'дети старше 3 лет'!A3","v":"ЗАВТРАК"}]
[null,{"$f":"'дети старше 3 лет'!B4","v":"54-24к"},{"$f":"'дети старше 3 лет'!C4","v":"каша  пшённая молочная  жидкая"},{"$f":"'дети старше 3 лет'!D4","v":"166г"},null,{"$f":"'дети старше 3 лет'!F4","v":268},{"$f":"'дети старше 3 лет'!G4","v":8.2},{"$f":"'дети старше 3 лет'!H4","v":8.5},{"$f":"'дети старше 3 лет'!I4","v":37}]
[null,{"$f":"'дети старше 3 лет'!B5","v":99},{"$f":"'дети старше 3 лет'!C5","v":"Бутерброд с маслом"},{"$f":"'дети старше 3 лет'!D5","v":"34г"},null,{"$f":"'дети старше 3 лет'!F5","v":167},{"$f":"'дети старше 3 лет'!G5","v":1.4},{"$f":"'дети старше 3 лет'!H5","v":14},{"$f":"'дети старше 3 лет'!I5","v":8.6}]
[null,{"$f":"'дети старше 3 лет'!B6","v":"54-23гн"},{"$f":"'дети старше 3 лет'!C6","v":"кофейный напиток с молоком"},{"$f":"'дети старше 3 лет'!D6","v":"200г"},null,{"$f":"'дети старше 3 лет'!F6","v":86},{"$f":"'дети старше 3 лет'!G6","v":3.8},{"$f":"'дети старше 3 лет'!H6","v":2.9},{"$f":"'дети старше 3 лет'!I6","v":11.3}]
[]
["обед"]
[null,{"$f":"'дети старше 3 лет'!B10","v":"54-7с"},{"$f":"'дети старше 3 лет'!C10","v":"суп картофельный с макаронными изделиями на кур./б."},{"$f":"'дети старше 3 лет'!D10","v":"200г"},null,{"$f":"'дети старше 3 лет'!F10","v":120},{"$f":"'дети старше 3 лет'!G10","v":5.2},{"$f":"'дети старше 3 лет'!H10","v":2.8},{"$f":"'дети старше 3 лет'!I10","v":18.5}]
[null,"54-6","рис отварной",100,null,136,2.6,3.2,24]
[null,{"$f":"'дети старше 3 лет'!B12","v":"54-16м"},{"$f":"'дети старше 3 лет'!C12","v":"печень по - строгановски"},{"$f":"'дети старше 3 лет'!D12","v":"70г"},null,{"$f":"'дети старше 3 лет'!F12","v":166},{"$f":"'дети старше 3 лет'!G12","v":11.7},{"$f":"'дети старше 3 лет'!H12","v":11},{"$f":"'дети старше 3 лет'!I12","v":4.7}]
[null,{"$f":"'дети старше 3 лет'!B13","v":"54-7хн"},{"$f":"'дети старше 3 лет'!C13","v":"компот из смеси фруктовой б.з."},{"$f":"'дети старше 3 лет'!D13","v":200},null,{"$f":"'дети старше 3 лет'!F13","v":35},{"$f":"'дети старше 3 лет'!G13","v":0.3},{"$f":"'дети старше 3 лет'!H13","v":0.1},{"$f":"'дети старше 3 лет'!I13","v":8.4}]
[null,{"$f":"'дети старше 3 лет'!B14","v":"пром."},{"$f":"'дети старше 3 лет'!C14","v":"Хлеб пшеничный"},{"$f":"'дети старше 3 лет'!D14","v":"20г"},null,{"$f":"'дети старше 3 лет'!F14","v":47},{"$f":"'дети старше 3 лет'!G14","v":1.5},{"$f":"'дети старше 3 лет'!H14","v":0.2},{"$f":"'дети старше 3 лет'!I14","v":10}]
[null,{"$f":"'дети старше 3 лет'!B15","v":"пром."},{"$f":"'дети старше 3 лет'!C15","v":"Хлеб ржаной"},20,null,{"$f":"'дети старше 3 лет'!F15","v":26},{"$f":"'дети старше 3 лет'!G15","v":1},{"$f":"'дети старше 3 лет'!H15","v":0.2},{"$f":"'дети старше 3 лет'!I15","v":5}]