{"text_format":"3","workbook":"xlsx","n_sheets":5,"sheets":["Дневной рацион, Дети до 3 лет, ","дети 1-3","дети старше 3 лет","дети с пищевой аллергией","дети с овз с 3-лет"],"read":"whole","date_system":"1900"}

{"sheet":"Дневной рацион, Дети до 3 лет, ","index":0,"n_rows":27,"n_cols":11,"rows_kept":27,"merged":[[0,1,0,3],[0,6,0,8]]}
["Учреждение","МКДОУ д/с № 504 8.12.2022",null,null,"Отд./корп",{"$nulls":4},"День",4]
["Прием пищи","Раздел","№ рец.","Блюдо","Выход","Калорийность","Белки","Жиры","Углеводы"]
["ЗАВТРАК"]
[null,"Горячие блюда (каши, запеканки и т.д)","270","Каша молочная пшеничная жидкая","150г",911.25,27.75,28.05,136.875]
[null,"Бутерброды","99","Бутерброд с маслом ","34г",191.372,1.555,0.098,9.715]
[null,"Напитки","117","Какао с молоком","150г",115,1.8,3,17.9]
["Общая стоимость"]
["ЗАВТРАК № 2"]
["Общая стоимость"]
["О Б Е Д"]
[null,"Первые блюда (Супы)","149","Суп картофельный с горохом","150г",64.8,1.38,2.55,9.075]
[null,"Вторые блюда","349","Рыба -горбуша, тушеная в томате с овощами ","120г",122.572,11.4,6.172,5.4]
[null,"Гарниры","434","Картофельное пюре","110г",101.2,2.31,4.84,11.99]
[null,null,"527","Компот из смеси сухофруктов","150г",82.5,0.375,0,20.25]
[{"$nulls":3},"Хлеб бородинский","50г",0,0,0,0]
[null,null,"114","Хлеб пшеничный","15г",35.25,105.9,0.12,7.38]
["Общая стоимость"]
["ПОЛДНИК"]
[null,"Бутерброды","101","Батон с повидлом","45г",176,1.7,4.3,32.6]
[null,null,"534","Молоко кипяченое","150г",79.5,4.35,3.75,7.2]
["Общая стоимость"]
["У Ж И Н"]
[null,"Горячие блюда (каши, запеканки и т.д)","307","Омлет натуральный","80г",130.462,6.893,10.708,1.847]
[null,"Напитки","132","Чай с сахаром","150г",45,0,0,8.5]
[null,null,"114","Хлеб пшеничный","30г",70.5,211.8,0.24,14.76]
["Общая стоимость"]
["Общая стоимость дневного рациона"]

{"sheet":"дети 1-3","index":1,"n_rows":23,"n_cols":9,"rows_kept":23,"merged":[[0,1,0,3],[0,6,0,8]]}
["Учреждение","МКДОУ Тогучинского района \" Тогучинский д/с № 2\"",{"$nulls":4},"День 9"]
["Прием пищи","№ рец.","Блюдо","Выход","Цена","Калорийность","Белки","Жиры","Углеводы"]
["ЗАВТРАК"]
[null,"54-22к","каша молочная   овсянная жидкая","141г",null,136,4.8,5.3,17.4]
[null,99,"Бутерброд с маслом","29г",null,142,1.2,12.1,7.3]
[null,"54-23гн","кофейный напиток с молоком","180г",null,77,3.5,2.6,10.2]
["ЗАВТРАК № 2"]
[null,null,"яблоки в нарезке","70г",null,37,0.2,0.07,7.9]
["О Б Е Д"]
[null,"54-3с","рассольник\" Ленинградский\"","150г",null,94.1,3.6,4.4,10.2]
[null,"54-11г","картофельное пюре","90г",null,83,2,3.2,12]
[null,"54-2соус","соус белый","10г",null,63,0.3,0.4,0.4]
[null,"54-3р","котлета рыбная","50г",null,57,7,1.3,4.3]
[null,"54-хн","компот из свежих яблок","150г",null,32,0.2,0.1,7.7]
[null,"пром.","Хлеб пшеничный","12г",null,28,0.9,0.1,6]
[null,"пром.","Хлеб ржаной","12г",null,21,0.8,0.1,4]
["ПОЛДНИК"]
[null,"54-14в","ватрушка с  повдлом","50г",null,162,3.1,1.4,34]
[null,"54-9хн","компот из облепихи б.з.","180г",null,35,0.1,0.9,6.6]
["УЖИН"]
[null,"54-1о","омлет натуральный","70г",null,105,6,8.4,1.5]
[null,"54-2гн","чай с сахаром","180г",null,24,0.2,0,5.8]
[null,"пром.","Хлеб пшеничный","15г",null,35,1.1,0.1,7.5]

{"sheet":"дети старше 3 лет","index":2,"n_rows":21,"n_cols":9,"rows_kept":21,"merged":[[0,1,0,3],[0,6,0,8]]}
["Учреждение","МКДОУ Тогучинского района \" Тогучинский д/с № 2\"",{"$nulls":4},"день 9"]
["Прием пищи","№ рец.","Блюдо","Выход","Цена","Калорийность","Белки","Жиры","Углеводы"]
["ЗАВТРАК"]
[null,"54-22к","каша молочная  овсянная  жидкая","166г",null,160,5.7,6.2,20.5]
[null,99,"Бутерброд с маслом","34г",null,167,1.4,14,8.6]
[null,"54-23гн","кофейный напиток с молоком","200г",null,86,3.8,2.9,11.3]
[]
["О Б Е Д","54-3с","Рассольник  \" Ленинградский\"","200г",null,125.5,4.7,5.8,13.6]
[null,"54-11г","картофельное пюре","100г",null,92,2.2,3.6,13]
[null,"54-2соус","соус белый","15г",null,95,0.5,0.6,0.6]
[null,"54-3р","котлета рыбная","60г",null,68,8.4,1.6,5.2]
[null,"54-хн","компот из свежих яблок","200г",null,42,0.2,0.1,10.2]
[null,"пром.","Хлеб пшеничный","20г",null,47,1.5,0.2,10]
[null,"пром.","Хлеб ржаной","15г",null,26,1,0.2,5]
[]
["ПОЛДНИК ","54-14в","ватрушка с  повдлом","50г",null,162,3.1,1.4,34]
[null,"54-9хн","компот из облепихи б.з.","200г",null,39,0.2,1,7.4]
[]
["УЖИН",{"$f":"'дети 1-3'!B21","v":"54-1о"},{"$f":"'дети 1-3'!C21","v":"омлет натуральный"},78,null,117,6.7,9.4,1.7]
[null,"54-2гн","чай с сахаром","200г",null,24,2,0,5.9]
[null,"пром.","Хлеб пшеничный","20г",null,47,1.5,0.2,10]

{"sheet":"дети с пищевой аллергией","index":3,"n_rows":23,"n_cols":9,"rows_kept":23,"merged":[[0,1,0,3],[0,6,0,8]]}
["Учреждение","МКДОУ Тогучинского района \" Тогучинский д/с № 2\"",{"$nulls":4},"день 9"]
["Прием пищи","№ рец.","Блюдо","Выход","Цена","Калорийность","Белки","Жиры","Углеводы"]
["ЗАВТРАК"]
[null,"54-10к","каша безмолочная   овсянная с изюмом жидкая","166г",null,235,6.6,8.9,32]
[null,97,"Бутерброд с маслом","34г",null,167,1.4,14,8.6]
[null,"54-23гн","кофейный напиток  без молока","200г",null,19,0,0,4.6]
[]
[]
["О Б Е Д",{"$f":"'дети старше 3 лет'!B8","v":"54-3с"},"Рассольник \"ленинградский\" без сметаны",{"$f":"'дети старше 3 лет'!D8","v":"200г"},null,{"$f":"'дети старше 3 лет'!F8","v":125.5},{"$f":"'дети старше 3 лет'!G8","v":4.7},{"$f":"'дети старше 3 лет'!H8","v":5.8},{"$f":"'дети старше 3 лет'!I8","v":13.6}]
[null,{"$f":"'дети старше 3 лет'!B9","v":"54-11г"},"картофельное пюре без молока",{"$f":"'дети старше 3 лет'!D9","v":"100г"},null,{"$f":"'дети старше 3 лет'!F9","v":92},{"$f":"'дети старше 3 лет'!G9","v":2.2},{"$f":"'дети старше 3 лет'!H9","v":3.6},{"$f":"'дети старше 3 лет'!I9","v":13}]
[null,{"$f":"'дети старше 3 лет'!B10","v":"54-2соус"},{"$f":"'дети старше 3 лет'!C10","v":"соус белый"},{"$f":"'дети старше 3 лет'!D10","v":"15г"},null,{"$f":"'дети старше 3 лет'!F10","v":95},{"$f":"'дети старше 3 лет'!G10","v":0.5},{"$f":"'дети старше 3 лет'!H10","v":0.6},{"$f":"'дети старше 3 лет'!I10","v":0.6}]
[null,{"$f":"'дети старше 3 лет'!B11","v":"54-3р"},{"$f":"'дети старше 3 лет'!C11","v":"котлета рыбная"},{"$f":"'дети старше 3 лет'!D11","v":"60г"},null,{"$f":"'дети старше 3 лет'!F11","v":68},{"$f":"'дети старше 3 лет'!G11","v":8.4},{"$f":"'дети старше 3 лет'!H11","v":1.6},{"$f":"'дети старше 3 лет'!I11","v":5.2}]
[null,"54-хн","компот из свежих яблок","200г",null,42,0.2,0.1,10.2]
[null,"пром.","Хлеб пшеничный","20г",null,47,1.5,0.2,10]
[null,"пром.","Хлеб ржаной","15г",null,26,1,0.2,5]
[]
[]
["ПОЛДНИК ","54-1в","ватрушка с  повидлом","50г",null,162,3.1,1.4,34]
[null,{"$f":"'дети старше 3 лет'!B17","v":"54-9хн"},{"$f":"'дети старше 3 лет'!C17","v":"компот из облепихи б.з."},{"$f":"'дети старше 3 лет'!D17","v":"200г"},null,{"$f":"'дети старше 3 лет'!F17","v":39},{"$f":"'дети старше 3 лет'!G17","v":0.2},{"$f":"'дети старше 3 лет'!H17","v":1},{"$f":"'дети старше 3 лет'!I17","v":7.4}]
[]
["УЖИН","54-6о","яйцо отварное ","40г",null,56.6,4.8,4,0.3]
[null,"54-2гн","чай с сахаром","200г",null,24,2,0,5.9]
[null,"пром.","Хлеб пшеничный","20г",null,47,1.5,0.2,10]

{"sheet":"дети с овз с 3-лет","index":4,"n_rows":16,"n_cols":9,"rows_kept":16,"merged":[[0,1,0,3],[0,6,0,8]]}
["Учреждение","МКДОУ Тогучинского района \" Тогучинский д/с № 2\"",{"$nulls":4},"день 9"]
["Прием пищи","№ рец.","Блюдо","Выход","Цена","Калорийность","Белки","Жиры","Углеводы"]
["ЗАВТРАК"]
[null,"54-22к","каша молочная   овсянная жидкая","166г",null,160,5.7,6.2,20.5]
[null,101,"Бутерброд с маслом,повидлом","45г",null,140,1.4,4.8,23]
[null,"54-23гн","кофейный напиток с молоком","200г",null,86,3.8,2.9,11.3]
[]
[]
["О Б Е Д",{"$f":"'дети старше 3 лет'!B8","v":"54-3с"},{"$f":"'дети старше 3 лет'!C8","v":"Рассольник  \" Ленинградский\""},{"$f":"'дети старше 3 лет'!D8","v":"200г"},null,{"$f":"'дети старше 3 лет'!F8","v":125.5},{"$f":"'дети старше 3 лет'!G8","v":4.7},{"$f":"'дети старше 3 лет'!H8","v":5.8},{"$f":"'дети старше 3 лет'!I8","v":13.6}]
[null,{"$f":"'дети старше 3 лет'!B9","v":"54-11г"},{"$f":"'дети старше 3 лет'!C9","v":"картофельное пюре"},{"$f":"'дети старше 3 лет'!D9","v":"100г"},null,{"$f":"'дети старше 3 лет'!F9","v":92},{"$f":"'дети старше 3 лет'!G9","v":2.2},{"$f":"'дети старше 3 лет'!H9","v":3.6},{"$f":"'дети старше 3 лет'!I9","v":13}]
[null,{"$f":"'дети старше 3 лет'!B10","v":"54-2соус"},{"$f":"'дети старше 3 лет'!C10","v":"соус белый"},{"$f":"'дети старше 3 лет'!D10","v":"15г"},null,{"$f":"'дети старше 3 лет'!F10","v":95},{"$f":"'дети старше 3 лет'!G10","v":0.5},{"$f":"'дети старше 3 лет'!H10","v":0.6},{"$f":"'дети старше 3 лет'!I10","v":0.6}]
[null,{"$f":"'дети старше 3 лет'!B11","v":"54-3р"},{"$f":"'дети старше 3 лет'!C11","v":"котлета рыбная"},{"$f":"'дети старше 3 лет'!D11","v":"60г"},null,{"$f":"'дети старше 3 лет'!F11","v":68},{"$f":"'дети старше 3 лет'!G11","v":8.4},{"$f":"'дети старше 3 лет'!H11","v":1.6},{"$f":"'дети старше 3 лет'!I11","v":5.2}]
[null,{"$f":"'дети старше 3 лет'!B12","v":"54-хн"},{"$f":"'дети старше 3 лет'!C12","v":"компот из свежих яблок"},{"$f":"'дети старше 3 лет'!D12","v":"200г"},null,{"$f":"'дети старше 3 лет'!F12","v":42},{"$f":"'дети старше 3 лет'!G12","v":0.2},{"$f":"'дети старше 3 лет'!H12","v":0.1},{"$f":"'дети старше 3 лет'!I12","v":10.2}]
[null,"пром.","Хлеб пшеничный","20г",null,47,1.5,0.2,10]
[null,"пром.","Хлеб ржаной","15г",null,26,1,0.2,5]
[null,null,"яблоко свежее","230г",null,123,0.8,0.2,26]